BEGIN:VCALENDAR
VERSION:2.0
PRODID:-//Eventin//Event Calendar//EN
CALSCALE:GREGORIAN
METHOD:PUBLISH
BEGIN:VEVENT
UID:afe94084bbefa3695367552025d02c93@ultimategatherings.com
SUMMARY:Drag me to THE BIG 80'S
DESCRIPTION:?✨ Time Warp to the Totally Tubular 80s! ✨?\n\n\n\nDust off
  your leg warmers and tease that hair—because "Drag Me to The Big 80’s"
  is about to take you on a wild ride back to the era of neon\, synth beats\
 , and over-the-top glam! ?\n\n\n\nGet ready for a night of high-energy perf
 ormances\, outrageous fashion\, and non-stop 80s nostalgia that’ll have y
 ou dancing like it's 1989! ???\n\n\n\n? Big Hair. Bold Looks. Even Bigger F
 un. ?\n\n\n\nAre you ready to party like an 80s rockstar? Don’t miss this
  legendary night! ??\n\n\n\nWHEN & WHERE: 21 yrs old and older.\n\n\n\nDate
 : Friday March 28th Location: Cambria Hotel\, 219 S Broad St\, Philadelphia
 \, PA\n\n\n\nDoors Open: 6:00 PM | Showtime: 7:30 PM\n\n\n\n? WHAT TO EXPEC
 T:- Show-Stopping Drag Performances – Philly’s fiercest queens will sla
 y the stage with high-energy numbers\, comedy\, and show-stopping talent!-C
 ocktail & Drink Specials – Enjoy a full bar with Mardi Gras-inspired cock
 tails!-Best Dressed Contest – Wear your best Mardi Gras outfit (beads\, f
 eathers\, sequins\, masks) for a chance to win prizes!-Photo Ops with the Q
 ueens – Snap a pic with your favorite performers and capture the night’
 s magic!\n\n\n\nTICKETS: UltimateGatherings.com\n\n\n\n$18 Prepaid | $25 at
  the Door.Note\, if all seats are taken there will be no sales of tickets a
 t the door\, so we highly advice you to Please pre-purchase tickets\, To ma
 ke sure your have secured seating.\n\n\n\n48 hrs Refund policy.\n\n\n\nPark
 ing Garage right across the street from The Cambrai Hotel. {If needed)\n\n\
 n\nParkway parking - Bellevue220 S Broad St . Philadelphia PA 19102\n\n\n\n
 LIMITED SEATING – RESERVE NOW! Don’t wait until the last minute! Prepay
  now to save your spot and avoid missing out on this one-night-only Mardi G
 ras extravaganza!.It’s time to throw on your beads\, sip a Hurricane\, an
 d celebrate Mardi Gras in true drag queen style!Grab your tickets now & let
  the party begin!\n\n\n\nAdditional Info:- A minimum purchase of 2 drinks a
 nd food from the ANZ Hotel Scranton Bar or Restaurant is required.- Doors o
 pen at 6:00 PM\, so come early to grab your seats and get ready for a night
  to remember!\n\n\n\n**Common Questions and Answers About Our Drag Queen Sh
 ows!1. **Can I bring my own food/snacks or drinks or liquor?**- We kindly a
 sk that you refrain from bringing outside food or drinks\, as ANZ Hotel Scr
 anton offers a fantastic restaurant and bar selection.2. **Can I purchase t
 ickets or pay in cash at the door?**- Absolutely! Tickets are available for
  purchase at the door for a fee of $25 NO CREDIT CARDS.3. **What does "Two 
 Item Minimum" mean?**- Our "Two-Item minimum" policy ensures that each gues
 t enjoys a delightful experience by requiring the purchase of at least two 
 items from Cambria Hotel menu\, which typically includes beverages and/or f
 ood items.4. **What do I get with my ticket?**- Each ticket grants you admi
 ssion to our super fun show and includes audience participation and prices.
 5. **Can I make reservations?**- Certainly! We happily accept reservations 
 for groups of 4 or more people\, ensuring you and your friends have a fanta
 stic time together.6. **What's the exact venue location?**- You'll find us 
 at the Cambria Hotel\, 219 S Broad St\, Philadelphia\, PA:
LOCATION:Online
DTSTAMP:20260423T131628Z
DTSTART:20250328T000000Z
DTEND:20260423T131628Z
END:VEVENT
END:VCALENDAR
